BEGIN:VCALENDAR
VERSION:2.0
PRODID:-//SVP Kanton Zug //NONSGML Events //EN
CALSCALE:GREGORIAN
X-WR-CALNAME:SVP Kanton Zug
BEGIN:VEVENT
CREATED:20200511T125622Z
UID:13011
DTEND:20210822T110000
DTSTART:20210822T100000
DTSTAMP:20260421T003954Z
LOCATION:Hirsgarten\, Cham
DESCRIPTION:
SUMMARY:Villette-Fäscht (Polit Bar)
ORGANIZER:
URL;VALUE=URI:https://www.svp-zug.ch/termine/villette-faescht-polit-bar-2-2/
TRANSP:OPAQUE
END:VEVENT
END:VCALENDAR
