BEGIN:VCALENDAR
VERSION:2.0
PRODID:-//SVP Kanton Zug //NONSGML Events //EN
CALSCALE:GREGORIAN
X-WR-CALNAME:SVP Kanton Zug
BEGIN:VEVENT
CREATED:20211130T170914Z
UID:15914
DTEND:20221129T200000
DTSTART:20221129T193000
DTSTAMP:20260420T111328Z
LOCATION:
DESCRIPTION:
SUMMARY:Gemeindeversammlung Rotkreuz
ORGANIZER:
URL;VALUE=URI:https://www.svp-zug.ch/termine/gemeindeversammlung-rotkreuz-5/
TRANSP:OPAQUE
END:VEVENT
END:VCALENDAR
