BEGIN:VCALENDAR
VERSION:2.0
PRODID:-//SVP Kanton Zug //NONSGML Events //EN
CALSCALE:GREGORIAN
X-WR-CALNAME:SVP Kanton Zug
BEGIN:VEVENT
CREATED:20220428T124114Z
UID:16805
DTEND:20230123T000000
DTSTART:20230123T000000
DTSTAMP:20260420T143309Z
LOCATION:Rest. Olivo\, Baarerstrasse 65\, Zug
DESCRIPTION:
SUMMARY:Fraktionssitzung
ORGANIZER:
URL;VALUE=URI:https://www.svp-zug.ch/termine/fraktionssitzung-4/
TRANSP:OPAQUE
END:VEVENT
END:VCALENDAR
