BEGIN:VCALENDAR
VERSION:2.0
PRODID:-//SVP Kanton Zug //NONSGML Events //EN
CALSCALE:GREGORIAN
X-WR-CALNAME:SVP Kanton Zug
BEGIN:VEVENT
CREATED:20221119T151341Z
UID:18882
DTEND:20231022T000000
DTSTART:20231022T000000
DTSTAMP:20260420T203539Z
LOCATION:
DESCRIPTION:
SUMMARY:Eidg. Wahlen (National- und Ständerat)
ORGANIZER:
URL;VALUE=URI:https://www.svp-zug.ch/termine/eidg-wahlen-national-und-staenderat/
TRANSP:OPAQUE
END:VEVENT
END:VCALENDAR
