BEGIN:VCALENDAR
VERSION:2.0
PRODID:-//SVP Kanton Zug //NONSGML Events //EN
CALSCALE:GREGORIAN
X-WR-CALNAME:SVP Kanton Zug
BEGIN:VEVENT
CREATED:20221119T152202Z
UID:18902
DTEND:20231026T200000
DTSTART:20231026T193000
DTSTAMP:20260420T224433Z
LOCATION:Rest. Breitfeld\, Rotkreuz
DESCRIPTION:Download Einladung (PDF)
SUMMARY:Mitgliederversammlung SVP Kanton Zug
ORGANIZER:
URL;VALUE=URI:https://www.svp-zug.ch/termine/mitgliederversammlung-svp-kanton-zug-16/
TRANSP:OPAQUE
END:VEVENT
END:VCALENDAR
