BEGIN:VCALENDAR
VERSION:2.0
PRODID:-//SVP Kanton Zug //NONSGML Events //EN
CALSCALE:GREGORIAN
X-WR-CALNAME:SVP Kanton Zug
BEGIN:VEVENT
CREATED:20230205T084758Z
UID:19544
DTEND:20230309T190000
DTSTART:20230309T180000
DTSTAMP:20260420T203953Z
LOCATION:Rest. Dragon Schatz\, Rotkreuz
DESCRIPTION:
SUMMARY:Zusammenkunft Ortsparteien\, Kantonsräte und Gemeinderat Risch
ORGANIZER:
URL;VALUE=URI:https://www.svp-zug.ch/termine/zusammenkunft-ortsparteien-kantonsraete-und-gemeinderat-risch/
TRANSP:OPAQUE
END:VEVENT
END:VCALENDAR
