BEGIN:VCALENDAR
VERSION:2.0
PRODID:-//SVP Kanton Zug //NONSGML Events //EN
CALSCALE:GREGORIAN
X-WR-CALNAME:SVP Kanton Zug
BEGIN:VEVENT
CREATED:20230713T144343Z
UID:20464
DTEND:20231021T130000
DTSTART:20231021T100000
DTSTAMP:20260420T212450Z
LOCATION:Bundesplatz\, Zug
DESCRIPTION:
SUMMARY:Standaktion SVP Stadt Zug
ORGANIZER:
URL;VALUE=URI:https://www.svp-zug.ch/termine/standaktion-svp-stadt-zug-7/
TRANSP:OPAQUE
END:VEVENT
END:VCALENDAR
