BEGIN:VCALENDAR
VERSION:2.0
PRODID:-//SVP Kanton Zug //NONSGML Events //EN
CALSCALE:GREGORIAN
X-WR-CALNAME:SVP Kanton Zug
BEGIN:VEVENT
CREATED:20230917T100235Z
UID:20995
DTEND:20231022T170000
DTSTART:20231022T160000
DTSTAMP:20260420T203539Z
LOCATION:Rest. Olivo\, Baarerstrasse 65\, Zug
DESCRIPTION:
SUMMARY:Wahlfeier SVP Kanton Zug
ORGANIZER:
URL;VALUE=URI:https://www.svp-zug.ch/termine/wahlfeier-svp-kanton-zug-2/
TRANSP:OPAQUE
END:VEVENT
END:VCALENDAR
