BEGIN:VCALENDAR
VERSION:2.0
PRODID:-//SVP Kanton Zug //NONSGML Events //EN
CALSCALE:GREGORIAN
X-WR-CALNAME:SVP Kanton Zug
BEGIN:VEVENT
CREATED:20250122T145723Z
UID:23569
DTEND:20250506T200000
DTSTART:20250506T193000
DTSTAMP:20260425T191925Z
LOCATION:
DESCRIPTION:
SUMMARY:GV SVP Unterägeri
ORGANIZER:
URL;VALUE=URI:https://www.svp-zug.ch/termine/gv-svp-unteraegeri-5/
TRANSP:OPAQUE
END:VEVENT
END:VCALENDAR
