BEGIN:VCALENDAR
VERSION:2.0
PRODID:-//SVP Kanton Zug //NONSGML Events //EN
CALSCALE:GREGORIAN
X-WR-CALNAME:SVP Kanton Zug
BEGIN:VEVENT
CREATED:20250322T152201Z
UID:23869
DTEND:20250324T200000
DTSTART:20250324T193000
DTSTAMP:20260421T075642Z
LOCATION:Rest. Sport Inn\, Waldmannhalle\, Baar
DESCRIPTION:
SUMMARY:Sessionsrückblick von Nationalrat Thomas Aeschi
ORGANIZER:
URL;VALUE=URI:https://www.svp-zug.ch/termine/sessionsrueckblick-von-nationalrat-thomas-aeschi-7/
TRANSP:OPAQUE
END:VEVENT
END:VCALENDAR
