BEGIN:VCALENDAR
VERSION:2.0
PRODID:-//SVP Kanton Zug //NONSGML Events //EN
CALSCALE:GREGORIAN
X-WR-CALNAME:SVP Kanton Zug
BEGIN:VEVENT
CREATED:20260225T152749Z
UID:25955
DTEND:20260506T000000
DTSTART:20260506T000000
DTSTAMP:20260421T222744Z
LOCATION:
DESCRIPTION:
SUMMARY:GV &#038\; Nominationsversammlung SVP Rotkreuz
ORGANIZER:
URL;VALUE=URI:https://www.svp-zug.ch/termine/gv-nominationsversammlung-svp-rotkreuz/
TRANSP:OPAQUE
END:VEVENT
END:VCALENDAR
