BEGIN:VCALENDAR
VERSION:2.0
PRODID:-//SVP Kanton Zug //NONSGML Events //EN
CALSCALE:GREGORIAN
X-WR-CALNAME:SVP Kanton Zug
BEGIN:VEVENT
CREATED:20260226T104432Z
UID:25961
DTEND:20260505T210000
DTSTART:20260505T200000
DTSTAMP:20260421T200748Z
LOCATION:Rest. Lorin. Neuheim
DESCRIPTION:
SUMMARY:GV SVP Neuheim
ORGANIZER:
URL;VALUE=URI:https://www.svp-zug.ch/termine/gv-svp-neuheim-7/
TRANSP:OPAQUE
END:VEVENT
END:VCALENDAR
