BEGIN:VCALENDAR
VERSION:2.0
PRODID:-//SVP Kanton Zug //NONSGML Events //EN
CALSCALE:GREGORIAN
X-WR-CALNAME:SVP Kanton Zug
BEGIN:VEVENT
CREATED:20260228T082021Z
UID:25972
DTEND:20260504T200000
DTSTART:20260504T193000
DTSTAMP:20260421T182042Z
LOCATION:Schützehüsli\, Unterägeri
DESCRIPTION:
SUMMARY:GV &#038\; Nominationsversammlung SVP Unterägeri
ORGANIZER:
URL;VALUE=URI:https://www.svp-zug.ch/termine/gv-nominationsversammlung-svp-unteraegeri-3/
TRANSP:OPAQUE
END:VEVENT
END:VCALENDAR
